Workbook

Sheet Prime
A1: Calculateur CGT prime de service 2025
A2: Saisissez vos infos Dates, Indice, Catégorie, Note, Tps de travail et absences dans les cellules grisées et rien dans les autres
A3: STAGIAIRE ou TITULAIRE | C3: =(C4-B4) -365 -> 5234
A4: Dates de stagiarisation | B4: 39693 | C4: 45292 | D4: Prime de service
A5: Valeur du point global : | B5: =calcul!B5 -> 0.231502
A6: valeur du point 1ere répartition : | B6: =calcul!B6 -> 0.19879665 | C6: =IF(B7<300,0,C8) -> 600 | D6: Total 1er repart : | E6: =B17+B31 -> 2077.0024
A7: Indice majoré | B7: 600 | C7: =IF(B7>430,B7,IF(B7>417,B7+15,IF(B7>369,B7+30,IF(B7>355,B7+35,B7+45)))) -> 600 | D7: Total 2ème répart : | E7: =B19+B33 -> 261.52335
A8: Catégorie C, B ou A | B8: A | C8: =IF(B8="C",C7,B7) -> 600 | D8: Total Prime : | E8: =SUM(E6:E7) -> 2338.5257
A9: Note | B9: 22
A10: Quotité de travail (ETP) | B10: 0.8 | C10: =IF(B10=1,B10,IF(B10=0.9,0.9143,IF(B10=0.8,0.8571,B10))) -> 0.8571
A11: Montant 1ère répartition | B11: =B6*C6*B9*C10 -> 2249.1296 | C11: =B5*C6*B9*C10 -> 2619.1488 | H11: =IF(B7<418,C7,B7) -> 600
A12: Jours d'absence | B12: 15 | H12: =IF(B8="C",C7,IF(B7<418,C7,B7)) -> 600
A13: Abattement | B13: =IF(B12>5,B11*B12/140,0) -> 240.97818 | C13: =IF(B12>5,C11*B12/140,0) -> 280.62309
A14: Montant prime initiale | B14: =B11-B13 -> 2008.1515 | C14: =C11-C13 -> 2338.5257
A17: Montant prime statut 1er répartition | B17: =calcul!B17 -> 2077.0024
A19: Montant prime statut 2ème répartition | B19: =calcul!B19 -> 261.52335
A21: 45292
A22: 45231 | B22: 45658 | D22: Nbre de jour dans l'année : | E22: 366
A23: CONTRACTUEL | B23: 440
A24: Date de début premier CDD | C24: =IF(B24<A21,A21,B24) -> 45292 | D24: =IF(B24="","",C24) | E24: =(E25-B26) -365 -> 45293
A25: Date de début CDI | C25: =IF(B25<A21,A21,B25) -> 45292 | D25: =IF(B25="","",C25) | E25: =IF(B26="",B22,B26) -> 45658 | G25: =MIN(D24,D25) -> 0
A26: Date de stagiarisation ou de fin de contrat | E26: =E25-G25 -> 45658 | F26: =B23*E26/E22 -> 54889.399
A27: Temps Non Complet (NC) ou Temps partiel (TP) | B27: nc | C27: =IF(B27="NC",B28,C28) -> 0
A28: Quotité de travail en ETP | B28: 0 | C28: =IF(B28=1,B28,IF(B28=0.9,0.9143,IF(B28=0.8,0.8571,B28))) -> 0
A29: Jours d'absence
A30: =IF(B24<A22,C30-B30,0) -> 54889.399 | B30: =IF(B29>5,C30*B29/140,0) -> 0 | C30: =F26 -> 54889.399
A31: Montant prime initiale contractuel 1er répartion | B31: =calcul!B31 -> 0
A32: =IF(B24+B25=0,0,A30) -> 0 | B32: =A32*C27 -> 0
A33: Montant prime initiale contractuel 2ème répartion | B33: =calcul!B33 -> 0

Sheet calcul
A1: Calculateur CGT prime de service 2025
A2: Saisissez vos infos Dates, Indice, Catégorie, Note, Tps de travail et absences dans les cellules grisées et rien dans les autres | D2: CGT
A3: STAGIAIRES et TITULAIRES | C3: =(C4-B4) -365 -> 5600
A4: Dates de stagiarisation | B4: =IF(Prime!B4=0,"",Prime!B4) -> 39693 | C4: 45658 | D4: Prime de service
A5: Valeur du point 2ème répartition | B5: 0.231502
A6: Valeur du point | B6: 0.19879665 | C6: =IF(B7<300,0,C8) -> 600 | D6: Total 1er repart : | E6: =B17+B31 -> 2077.0024
A7: Indice majoré | B7: =Prime!B7 -> 600 | C7: =IF(B7>430,B7,IF(B7>417,B7+15,IF(B7>369,B7+30,IF(B7>355,B7+35,B7+45)))) -> 600 | D7: Total 2ème répart : | E7: =B19+B33 -> 261.52335
A8: Catégorie C, B ou A | B8: =Prime!B8 -> A | C8: =IF(B8="C",C7,B7) -> 600 | D8: Total Prime : | E8: =SUM(E6:E7) -> 2338.5257
A9: Note | B9: =Prime!B9 -> 22
A10: Quotité de travail (ETP) | B10: =Prime!B10 -> 0.8 | C10: =IF(B10=1,B10,IF(B10=0.9,0.9143,IF(B10=0.8,0.8571,B10))) -> 0.8571
A11: Montant 1ère répartition | B11: =B6*C6*B9*C10 -> 2249.1296 | C11: =B5*C6*B9*C10 -> 2619.1488 | H11: =IF(B7<418,C7,B7) -> 600
A12: Jours d'absence | B12: =Prime!B12 -> 15 | H12: =IF(B8="C",C7,IF(B7<418,C7,B7)) -> 600
A13: Abattement | B13: =IF(B12>5,B11*(B12*5/7)/140,0) -> 172.12727 | C13: =IF(B12>5,C11*B12/140,0) -> 280.62309
A14: Montant prime initiale | B14: =B11-B13 -> 2077.0024 | C14: =C11-C13 -> 2338.5257
A17: Montant prime statut 1er répartition | B17: =IF(C3<0,B14*(365+C3)/365,B14) -> 2077.0024 | C17: =(IF(C3<0,B14*(365+C3)/365,B14))*0.9 -> 1869.3021
A19: Montant prime statut 2ème répartition | B19: =IF(C3<0,C14*(365+C3)/365,C14)-B17 -> 261.52335
A21: 45292
A22: 45292 | B22: 45658 | D22: Nbre de jour dans l'année : | E22: 365
A23: CONTRACTUELS | B23: 440
A24: Date de début premier CDD | B24: =IF(Prime!B24=0,"0",Prime!B24) -> 0 | C24: =IF(B24<A21,A21,B24) -> 0 | D24: =IF(B24="","",C24) -> 0 | E24: =(E25-B26) -365 -> -365
A25: Date de début CDI | B25: =IF(Prime!B25=0,"0",Prime!B25) -> 0 | C25: =IF(B25<A21,A21,B25) -> 0 | D25: =IF(B25="","",C25) -> 0 | E25: =IF(B26="",B22,B26) -> 0 | G25: =MIN(D24,D25) -> 0
A26: Date de stagiarisation ou de fin de contrat | B26: =IF(Prime!B26=0,"0",Prime!B26) -> 0 | E26: =E25-G25 -> 0 | F26: =B23*E26/E22 -> 0
A27: Temps Non Complet (NC) ou Temps partiel (TP) | B27: =Prime!B27 -> nc | C27: =IF(B27="NC",B28,C28) -> 0
A28: Quotité de travail en ETP | B28: =Prime!B28 -> 0 | C28: =IF(B28=1,B28,IF(B28=0.9,0.9143,IF(B28=0.8,0.8571,B28))) -> 0
A29: Jours d'absence | B29: =Prime!B29 -> 0
A30: =IF(B24<A22,C30-B30,0) -> 0 | B30: =IF(B29>5,C30*B29/140,0) -> 0 | C30: =F26 -> 0
A31: Montant prime initiale contractuel 1er répartion | B31: =B32*0.9 -> 0
A32: =IF(B24+B25=0,0,A30) -> 0 | B32: =A32*C27 -> 0
A33: Montant prime initiale contractuel 2ème répartion | B33: =B32-B31 -> 0
